Workbook

Sheet Info. Terapias
G1: Meta Terapias a realizar por año | I1: 13500 | J1: =+I1*4 -> 54000 | K1: Meta Terapias a realizar cuatrenio
B2: 2025
B3: TIPO DE DISCAPACIDAD | C3: Población Certificada con Discapacidad por la Gobernación | D3: Población que solicita Atención | E3: Población Atendida | F3: % Cobertura Certificada (Pob. Certificada Vs Pob. Atendida) | G3: % Cobertuda Solicitudes (Pob. Solicita Atención Vs Pob. Atendida) | H3: Total Terapias por tipo de Discapacidad | I3: % Participaciónen la meta de terapias | J3: Presupuesto Ejecutado Por tipo de discapacidad | K3: % De Presupuesto Ejecutado por discapacidad /Total presupuesto ejecutado | L3: Costo percapita por tipo de discpacidad | M3: Costo por terapiarealizadas por discapaicdad
B4: FISICA | C4: 214 | D4: 167 | E4: 134 | F4: =+E4/C4 -> 0.62616822 | G4: =+E4/D4 -> 0.80239521 | H4: 3976 | I4: =+H4/$I$1 -> 0.29451852 | J4: 38922901 | K4: =+J4/$J$10 -> 0.18191672 | L4: =+J4/E4 -> 290469.41 | M4: =+J4/H4 -> 9789.462
B5: INTELECTUAL | C5: 139 | D5: 107 | E5: 99 | F5: =+E5/C5 -> 0.71223022 | G5: =+E5/D5 -> 0.92523364 | H5: 4741 | I5: =+H5/$I$1 -> 0.35118519 | J5: 46411839 | K5: =+J5/$J$10 -> 0.2169183 | L5: =+J5/E5 -> 468806.45 | M5: =+J5/H5 -> 9789.4619
B6: PSICOSOCIAL | C6: 60 | D6: 53 | E6: 42 | F6: =+E6/C6 -> 0.7 | G6: =+E6/D6 -> 0.79245283 | H6: 1072 | I6: =+H6/$I$1 -> 0.079407407 | J6: 10494303 | K6: =+J6/$J$10 -> 0.049047967 | L6: =+J6/E6 -> 249864.36 | M6: =+J6/H6 -> 9789.4618
B7: MULTIPLE | C7: 318 | D7: 274 | E7: 252 | F7: =+E7/C7 -> 0.79245283 | G7: =+E7/D7 -> 0.91970803 | H7: 8165 | I7: =+H7/$I$1 -> 0.60481481 | J7: 79930957 | K7: =+J7/$J$10 -> 0.37357897 | L7: =+J7/E7 -> 317186.34 | M7: =+J7/H7 -> 9789.462
B8: AUDITIVA | C8: 31 | D8: 30 | E8: 25 | F8: =+E8/C8 -> 0.80645161 | G8: =+E8/D8 -> 0.83333333 | H8: 383 | I8: =+H8/$I$1 -> 0.02837037 | J8: 12494107 | K8: =+J8/$J$10 -> 0.058394592 | L8: =+J8/E8 -> 499764.28 | M8: =+J8/H8 -> 32621.689
B9: VISUAL | C9: 38 | D9: 36 | E9: 30 | F9: =+E9/C9 -> 0.78947368 | G9: =+E9/D9 -> 0.83333333 | H9: 788 | I9: =+H9/$I$1 -> 0.05837037 | J9: 25705893 | K9: =+J9/$J$10 -> 0.12014345 | L9: =+J9/E9 -> 856863.1 | M9: =+J9/H9 -> 32621.692
B10: TOTAL | C10: =SUM(C4:C9) -> 800 | D10: =SUM(D4:D9) -> 667 | E10: =SUM(E4:E9) -> 582 | F10: =+E10/C10 -> 0.7275 | G10: =+E10/D10 -> 0.87256372 | H10: =SUM(H4:H9) -> 19125 | I10: =+H10/$I$1 -> 1.4166667 | J10: =SUM(J4:J9) -> 213960000 | K10: =+J10/$J$10 -> 1 | L10: =+J10/E10 -> 367628.87 | M10: =+J10/H10 -> 11187.451
B14: 2024
B15: TIPO DE DISCAPACIDAD | C15: Población Certificada con Discapacidad por la Gobernación | D15: Población que solicita Atención | E15: Población Atendida | F15: % Cobertura Certificada (Pob. Certificada Vs Pob. Atendida) | G15: % Cobertuda Solicitudes (Pob. Solicita Atención Vs Pob. Atendida) | H15: Total Terapias por tipo de Discapacidad | I15: % Participaciónen la meta de terapias | J15: Presupuesto Ejecutado Por tipo de discapacidad | K15: % De Presupuesto Ejecutado por discapacidad /Total presupuesto ejecutado | L15: Costo percapita por tipo de discpacidad | M15: Costo por terapiarealizadas por discapaicdad
B16: FISICA | C16: 214 | D16: 140 | E16: 70 | F16: =+E16/C16 -> 0.3271028 | G16: =+E16/D16 -> 0.5 | H16: 3752 | I16: =+H16/$I$1 -> 0.27792593 | J16: 30848536 | K16: =+J16/$J$10 -> 0.14417899 | L16: =+J16/E16 -> 440693.38 | M16: =+J16/H16 -> 8221.8914
B17: INTELECTUAL | C17: 139 | D17: 93 | E17: 78 | F17: =+E17/C17 -> 0.56115108 | G17: =+E17/D17 -> 0.83870968 | H17: 3100 | I17: =+H17/$I$1 -> 0.22962963 | J17: 25487863 | K17: =+J17/$J$10 -> 0.11912443 | L17: =+J17/E17 -> 326767.48 | M17: =+J17/H17 -> 8221.8914
B18: PSICOSOCIAL | C18: 60 | D18: 34 | E18: 24 | F18: =+E18/C18 -> 0.4 | G18: =+E18/D18 -> 0.70588235 | H18: 348 | I18: =+H18/$I$1 -> 0.025777778 | J18: 2861218.2 | K18: =+J18/$J$10 -> 0.013372678 | L18: =+J18/E18 -> 119217.43 | M18: =+J18/H18 -> 8221.8915
B19: MULTIPLE | C19: 318 | D19: 188 | E19: 155 | F19: =+E19/C19 -> 0.48742138 | G19: =+E19/D19 -> 0.82446809 | H19: 5973 | I19: =+H19/$I$1 -> 0.44244444 | J19: 49109357 | K19: =+J19/$J$10 -> 0.22952588 | L19: =+J19/E19 -> 316834.56 | M19: =+J19/H19 -> 8221.8913
B20: AUDITIVA | C20: 31 | D20: 22 | E20: 10 | F20: =+E20/C20 -> 0.32258065 | G20: =+E20/D20 -> 0.45454545 | H20: 106 | I20: =+H20/$I$1 -> 0.0078518519 | J20: 5014619 | K20: =+J20/$J$10 -> 0.02343718 | L20: =+J20/E20 -> 501461.9 | M20: =+J20/H20 -> 47307.726
B21: VISUAL | C21: 38 | D21: 19 | E21: 17 | F21: =+E21/C21 -> 0.44736842 | G21: =+E21/D21 -> 0.89473684 | H21: 461 | I21: =+H21/$I$1 -> 0.034148148 | J21: 21808861 | K21: =+J21/$J$10 -> 0.10192962 | L21: =+J21/E21 -> 1282874.2 | M21: =+J21/H21 -> 47307.725
B22: TOTAL | C22: =SUM(C16:C21) -> 800 | D22: =SUM(D16:D21) -> 496 | E22: =SUM(E16:E21) -> 354 | F22: =+E22/C22 -> 0.4425 | G22: =+E22/D22 -> 0.71370968 | H22: =SUM(H16:H21) -> 13740 | I22: =+H22/$I$1 -> 1.0177778 | J22: =SUM(J16:J21) -> 1.3513045e+08 | K22: =+J22/$J$10 -> 0.63156877 | L22: =+J22/E22 -> 381724.45 | M22: =+J22/H22 -> 9834.822
B25: 2023
B26: TIPO DE DISCAPACIDAD | C26: Población Certificada con Discapacidad por la Gobernación | D26: Población que solicita Atención | E26: Población Atendida | F26: % Cobertura Certificada (Pob. Certificada Vs Pob. Atendida) | G26: % Cobertuda Solicitudes (Pob. Solicita Atención Vs Pob. Atendida) | H26: Total Terapias por tipo de Discapacidad | I26: % Participaciónen la meta de terapias | J26: Presupuesto Ejecutado Por tipo de discapacidad | K26: % De Presupuesto Ejecutado por discapacidad /Total presupuesto ejecutado | L26: Costo percapita por tipo de discpacidad | M26: Costo por terapia realizada por discapaicdad
B27: FISICA | C27: 214 | D27: 80 | E27: 73 | F27: =+E27/C27 -> 0.3411215 | G27: =+E27/D27 -> 0.9125 | H27: 2935 | I27: =+H27/$I$1 -> 0.21740741 | J27: 95029337 | K27: =+J27/$J$10 -> 0.44414534 | L27: =+J27/E27 -> 1301771.7 | M27: =+J27/H27 -> 32377.968
B28: INTELECTUAL | C28: 139 | D28: 73 | E28: 65 | F28: =+E28/C28 -> 0.4676259 | G28: =+E28/D28 -> 0.89041096 | H28: 2086 | I28: =+H28/$I$1 -> 0.15451852 | J28: 67540442 | K28: =+J28/$J$10 -> 0.31566854 | L28: =+J28/E28 -> 1039083.7 | M28: =+J28/H28 -> 32377.968
B29: PSICOSOCIAL | C29: 60 | D29: 21 | E29: 12 | F29: =+E29/C29 -> 0.2 | G29: =+E29/D29 -> 0.57142857 | H29: 153 | I29: =+H29/$I$1 -> 0.011333333 | J29: 4953829.1 | K29: =+J29/$J$10 -> 0.023153062 | L29: =+J29/E29 -> 412819.09 | M29: =+J29/H29 -> 32377.968
B30: MULTIPLE | C30: 318 | D30: 110 | E30: 93 | F30: =+E30/C30 -> 0.29245283 | G30: =+E30/D30 -> 0.84545455 | H30: 4279 | I30: =+H30/$I$1 -> 0.31696296 | J30: 1.3854533e+08 | K30: =+J30/$J$10 -> 0.6475291 | L30: =+J30/E30 -> 1489734.7 | M30: =+J30/H30 -> 32377.968
B31: AUDITIVA | C31: 31 | D31: 13 | E31: 8 | F31: =+E31/C31 -> 0.25806452 | G31: =+E31/D31 -> 0.61538462 | H31: 96 | I31: =+H31/$I$1 -> 0.0071111111 | J31: 3108284.9 | K31: =+J31/$J$10 -> 0.014527411 | L31: =+J31/E31 -> 388535.62 | M31: =+J31/H31 -> 32377.968
B32: VISUAL | C32: 38 | D32: 8 | E32: 7 | F32: =+E32/C32 -> 0.18421053 | G32: =+E32/D32 -> 0.875 | H32: 174 | I32: =+H32/$I$1 -> 0.012888889 | J32: 5633766.5 | K32: =+J32/$J$10 -> 0.026330933 | L32: =+J32/E32 -> 804823.78 | M32: =+J32/H32 -> 32377.968
B33: TOTAL | C33: =SUM(C27:C32) -> 800 | D33: =SUM(D27:D32) -> 305 | E33: =SUM(E27:E32) -> 258 | F33: =+E33/C33 -> 0.3225 | G33: =+E33/D33 -> 0.84590164 | H33: =SUM(H27:H32) -> 9723 | I33: =+H33/$I$1 -> 0.72022222 | J33: =SUM(J27:J32) -> 314810985 | K33: =+J33/$J$10 -> 1.4713544 | L33: =+J33/E33 -> 1220197.6 | M33: =+J33/H33 -> 32377.968

Sheet Gráficas Generales Terapias
A1: DATOS POBLACIONALES
A3: DATOS POBLACIONALES LÍNEA
A4: Año | B4: POBLACIÓN CERTIFICADA | C4: POBLACIÓN QUE SOLICITA ATENCIÓN | D4: POBLACIÓN ATENDIDA | E4: COBERTURA POBLACIÓN ATENDIDA
A5: 2023 | B5: 800 | C5: 300 | D5: =+'Info. Terapias'!E33 -> 258 | E5: =+D5/C5 -> 0.86
A6: 2024 | B6: 800 | C6: 496 | D6: =+'Info. Terapias'!E22 -> 354 | E6: =+D6/C6 -> 0.71370968
A7: 2025 | B7: 800 | C7: 667 | D7: =+'Info. Terapias'!E10 -> 582 | E7: =+D7/C7 -> 0.87256372
A8: 2026
A9: 2027
A12: DATOS PRESUPUESTALES
A15: Año | B15: EJECUCIÓN DE RECURSOS | C15: Variación %
A16: 2023 | B16: 314810985
A17: 2024 | B17: 1.3513045e+08 | C17: =+B17/B16-1 -> -0.57075686
A18: 2025 | B18: 213960000 | C18: =+B18/B17-1 -> 0.58335884
A19: 2026 | B19: 0
A20: 2027 | B20: 0
A24: RELACIÓN PRESUPUESTO Vs COBERTURA
A26: Año | B26: EJECUCIÓN DE RECURSOS | C26: POBLACIÓN ATENDIDA | D26: COSTO PERCÁPITA POBLACIÓN ATENDIDA | E26: COBERTURA POBLACIÓN ATENDIDA
A27: 2023 | B27: 314810985 | C27: =+D5 -> 258 | D27: =+B27/C27 -> 1220197.6 | E27: =+E5 -> 0.86
A28: 2024 | B28: 1.3513045e+08 | C28: =+D6 -> 354 | D28: =+B28/C28 -> 381724.45 | E28: =+E6 -> 0.71370968
A29: 2025 | B29: 213960000 | C29: =+D7 -> 582 | D29: =+B29/C29 -> 367628.87 | E29: =+E7 -> 0.87256372
A30: 2026 | B30: 0
A31: 2027 | B31: 0

Sheet Ficha 1.1 Cob. Pob. Certificada
A1: HOJA DE VIDA DEL INDICADOR ATENCIÓN EN TERAPIAS
A2: Campo | B2: Contenido
A3: Nombre del indicador | B3: Cobertura de atención terapéutica para población certificada.
A4: Objetivo | B4: Medir el grado de cobertura de la atención en terapias brindada a la población certificada en condición de discapacidad, con el fin de evaluar la efectividad de la asignación y ejecución de los recursos públicos destinados a esta línea de gasto y apoyar la toma de decisiones orientadas a reducir brechas de atención.
A5: Dimensión | B5: Resultado / Cobertura
A6: Tipo de indicador | B6: Eficacia – Cobertura
A7: Definición | B7: Mide el porcentaje de personas certificadas con discapacidad que reciben terapias frente al total de personas certificadas en una vigencia determinada.
A8: Fórmula | B8: (Personas atendidas / Personas certificadas) * 100
A9: Unidad de medida | B9: Porcentaje (%)
A10: Frecuencia de medición | B10: Anual
A11: Fuente de información | B11: Registros administrativos municipio de Funza; registros administrativos de la Gobernación de Cundinamarca
A12: Responsable | B12: Secretaría de Salud / Secretaría de Desarrollo Social – Municipio de Funza
A13: Línea de política | B13: Discapacidad e inclusión social
... A18: Observaciones | B18: Puede complementarse con costo per cápita y costo por terapia para análisis de eficiencia. El indicador se desagrega por: Tipo de discapacidad (física, intelectual, psicosocial, múltiple, auditiva y visual).
A19: Línea base | B19: =+'Info. Terapias'!F33 -> 0.3225
A20: Valor actualizado | B20: =+'Info. Terapias'!F10 -> 0.7275
A21: Meta a 2027 | B21: 1
A22: Año de línea base | B22: 2023
A23: Año actualización | B23: 2025
A24: Brecha Actual | B24: =+B20-B21 -> -0.2725
A26: CÁLCULOS
A27: Metodología | B27: Meta alcanzada (supera 100%) - Mantenimiento
A28: Fuente: | B28: Objetivo de política. Aumentar y mantener al 100%
A29: Detalle: | B29: Este indicador mide el porcentaje de personas certificadas en condición de discapacidad que reciben atención terapéutica durante una vigencia determinada, en relación con el total de personas certificadas en el municipio. Permite identificar el nivel de acceso efectivo a los servicios financiados con recursos públicos y establecer brechas entre la población potencial y la población atendida.
A30: Meta de referencia | B30: Alcanzar o superar una cobertura del 80 % de atención terapéutica sobre la población certificada en condición de discapacidad.
A31: Interpretación del indicador (Semáforo) | B31: Indicador tipo semáforo: Verde: ≥80% cobertura Amarillo: 60–79% Rojo: <60%
A33: INDICADOR PRINCIPAL_SERIE COBERTURA AGREGADA (POBLACIÓN CERTIFICADA Vs ATENDIDA)
A34: Año | B34: POBLACIÓN CERTIFICADA | C34: POBLACIÓN ATENDIDA | D34: % COBERTURA EN TERAPIAS | E34: % BRECHA | F34: Observación
A35: 2023 | B35: 800 | C35: =+'Info. Terapias'!E33 -> 258 | D35: =+C35/B35 -> 0.3225 | E35: =+D35-$D$39 -> -0.6775 | F35: Datos Observados
A36: 2024 | B36: 800 | C36: =+'Info. Terapias'!E22 -> 354 | D36: =+C36/B36 -> 0.4425 | E36: =+D36-$D$39 -> -0.5575 | F36: Datos Observados
A37: 2025 | B37: 800 | C37: =+'Info. Terapias'!E10 -> 582 | D37: =+C37/B37 -> 0.7275 | E37: =+D37-$D$39 -> -0.2725 | F37: Datos Observados
A38: 2026 | B38: 800 | C38: =+C37*30%+C37 -> 756.6 | D38: =+C38/B38 -> 0.94575 | E38: =+D38-$D$39 -> -0.05425 | F38: Datos Proyectados
A39: 2027 | B39: 800 | C39: =+B39-C38+C38 -> 800 | D39: =+C39/B39 -> 1 | E39: =+D39-$D$39 -> 0 | F39: Datos Proyectados
A58: INFORMACIÓN COMPLEMENTARIA INDICADOR COBERTURA POBLACIÓN CERTIFICADA
A60: TIPO DE DISCAPACIDAD 2025 | B60: PERSONASCON DISCAPACIDAD CERTIFICADAS POR LA GOBERNACION | C60: PERSONAS ATENDIDAS | D60: % DE DE COBERTURA | E60: % BRECHA
A61: FISICA | B61: 214 | C61: 134 | D61: =+C61/B61 -> 0.62616822 | E61: =+D61-100% -> -0.37383178
A62: INTELECTUAL | B62: 139 | C62: 99 | D62: =+C62/B62 -> 0.71223022 | E62: =+D62-100% -> -0.28776978
A63: PSICOSOCIAL | B63: 60 | C63: 42 | D63: =+C63/B63 -> 0.7 | E63: =+D63-100% -> -0.3
A64: MULTIPLE | B64: 318 | C64: 252 | D64: =+C64/B64 -> 0.79245283 | E64: =+D64-100% -> -0.20754717
A65: AUDITIVA | B65: 31 | C65: 25 | D65: =+C65/B65 -> 0.80645161 | E65: =+D65-100% -> -0.19354839
...

Sheet Ficha 1.2 Cob. Pob. Atendida
A1: HOJA DE VIDA DEL INDICADOR ATENCIÓN EN TERAPIAS
A2: Campo | B2: Contenido
A3: Nombre del indicador | B3: Cobertura de atención en terapias sobre solicitudes recibidas.
A4: Objetivo | B4: Medir el grado de cobertura de la atención en terapias brindada a la población que solicita atención, con el fin de evaluar la efectividad de la asignación y ejecución de los recursos públicos destinados a esta línea de gasto y apoyar la toma de decisiones orientadas a reducir brechas de atención.
A5: Dimensión | B5: Resultado / Cobertura
A6: Tipo de indicador | B6: Eficacia – Cobertura
A7: Definición | B7: Mide el porcentaje de personas que solicitan terrapias frente al total de personas que reciben atención en una vigencia determinada.
A8: Fórmula | B8: (Personas atendidas / Personas que solicitan atención en terapias) * 100
A9: Unidad de medida | B9: Porcentaje (%)
A10: Frecuencia de medición | B10: Anual
A11: Fuente de información | B11: Registros administrativos municipio de Funza; registros administrativos de la Gobernación de Cundinamarca
A12: Responsable | B12: Secretaría de Salud / Secretaría de Desarrollo Social – Municipio de Funza
A13: Línea de política | B13: Discapacidad e inclusión social
... A18: Observaciones | B18: Puede complementarse con costo per cápita y costo por terapia para análisis de eficiencia. El indicador se desagrega por: Tipo de discapacidad (física, intelectual, psicosocial, múltiple, auditiva y visual).
A19: Línea base (vigencia 2023) | B19: =+'Info. Terapias'!G33 -> 0.84590164
A20: Valor actualizado | B20: =+'Info. Terapias'!G10 -> 0.87256372
A21: Meta a 2027 | B21: 1
A22: Año de línea base | B22: 2023
A23: Año actualización | B23: 2025
A24: Brecha | B24: =+B20-B21 -> -0.12743628
A26: CÁLCULOS
A27: Metodología | B27: Meta alcanzada (supera 100%) - Mantenimiento
A28: Fuente: | B28: Objetivo de política. Aumentar y mantener al 100%
A29: Detalle: | B29: Este indicador mide la capacidad de respuesta institucional frente a la demanda terapéutica manifiesta, relacionando el porcentaje de personas atendidas frente a las que solicitaron el servicio en una vigencia determinada. Su análisis permite evaluar la eficiencia en la ejecución de recursos públicos, al determinar si la asignación presupuestal logra transformar la demanda ciudadana en cobertura efectiva y en qué medida el financiamiento disponible garantiza la resolutividad del programa.
A30: Meta de referencia | B30: Alcanzar o superar una cobertura del 80 % de atención terapéutica sobre la población certificada en condición de discapacidad.
A31: Interpretación del indicador (Semáforo) | B31: Indicador tipo semáforo: Verde: ≥80% cobertura Amarillo: 60–79% Rojo: <60%
A34: INDICADOR PRINCIPAL_SERIE COBERTURA AGREGADA (POBLACIÓN QUE SOLICITA ATENCIÓN Vs POBLACIÓN ATENDIDA)
A35: Año | B35: POBLACIÓN QUE SOLICITA ATENCIÓN | C35: POBLACIÓN ATENDIDA | D35: % COBERTURA EN TERAPIAS | E35: % BRECHA | F35: Observación
A36: 2023 | B36: 305 | C36: 258 | D36: =+C36/B36 -> 0.84590164 | E36: =+D36-$D$40 -> -0.15409836 | F36: Datos Observados
A37: 2024 | B37: 496 | C37: 354 | D37: =+C37/B37 -> 0.71370968 | E37: =+D37-$D$40 -> -0.28629032 | F37: Datos Observados
A38: 2025 | B38: 667 | C38: 582 | D38: =+C38/B38 -> 0.87256372 | E38: =+D38-$D$40 -> -0.12743628 | F38: Datos Observados
A39: 2026 | B39: =+B38*30%+B38 -> 867.1 | C39: =+C38*30%+C38 -> 756.6 | D39: =+C39/B39 -> 0.87256372 | E39: =+D39-$D$40 -> -0.12743628 | F39: Datos Proyectados
A40: 2027 | B40: 800 | C40: 800 | D40: =+C40/B40 -> 1 | E40: =+D40-$D$40 -> 0 | F40: Datos Proyectados
A59: INFORMACIÓN COMPLEMENTARIA INDICADOR COBERTURA POBLACIÓN QUE SOLICITA ATENCIÓN
A61: META TERAPIAS CUATRENIO | B61: 13500
A62: SERIE COBERTURA POR TIPO DE ATENCIÓN (POBLACIÓN SOLICITA ATENCIÓN Vs ATENDIDA) 2025
A63: TIPO DE DISCAPACIDAD 2025 | B63: PERSONAS QUE SOLICITAN ATENCIÓN EN DISCAPACIDAD | C63: PERSONAS ATENDIDAS | D63: % SOLICITUDES VS ATENCIONES | E63: TOTAL TERAPIAS POR TIPO DE DISCAPACIDAD | F63: % Participaciónen la meta de terapias | G63: PRESUPUESTO EJECUTADO POR TIPO DE DISCAPACIDAD | H63: % DE PARTICIPACIÓN PRESUPUESTO EJECUTADO Vs presupuesto total por tipo de discpacidad | I63: Costo percapita por tipo de discpacidad | J63: Costo por terapia realizada, por discapaicdad
A64: FISICA | B64: 167 | C64: 134 | D64: =+C64/B64 -> 0.80239521 | E64: 3976 | F64: =+E64/$E$70 -> 0.20789542 | G64: 38922901 | H64: =+G64/$G$70 -> 0.18191672 | I64: =+G64/C64 -> 290469.41 | J64: =+G64/E64 -> 9789.462
A65: INTELECTUAL | B65: 107 | C65: 99 | D65: =+C65/B65 -> 0.92523364 | E65: 4741 | F65: =+E65/$E$70 -> 0.24789542 | G65: 46411839 | H65: =+G65/$G$70 -> 0.2169183 | I65: =+G65/C65 -> 468806.45 | J65: =+G65/E65 -> 9789.4619
A66: PSICOSOCIAL | B66: 53 | C66: 42 | D66: =+C66/B66 -> 0.79245283 | E66: 1072 | F66: =+E66/$E$70 -> 0.056052288 | G66: 10494303 | H66: =+G66/$G$70 -> 0.049047967 | I66: =+G66/C66 -> 249864.36 | J66: =+G66/E66 -> 9789.4618
...

Sheet Evidencia Fotográfica
